BEGIN:VCALENDAR
VERSION:2.0
PRODID:-//Repair Café Belp//Website//DE
CALSCALE:GREGORIAN
METHOD:PUBLISH
BEGIN:VEVENT
UID:repair-cafe-belp-2026-02-14@repaircafe-belp.ch
DTSTAMP:20260419T131327Z
SUMMARY:Repair Café in Belp
DTSTART;TZID=Europe/Zurich:20260214T100000
DTEND;TZID=Europe/Zurich:20260214T160000
LOCATION:Pfarreiheim Heiliggeist Belp\, Burggässli 6\, 3123 Belp
END:VEVENT
END:VCALENDAR
